BEGIN:VCALENDAR
VERSION:2.0
PRODID:icalendar-ruby
CALSCALE:GREGORIAN
METHOD:PUBLISH
BEGIN:VEVENT
DTSTAMP:20260423T115045Z
UID:1-1158624@thewelcomebaptistchurch.com
DTSTART:20261011T150000Z
DTEND:20261011T160000Z
CLASS:PUBLIC
CREATED:20260422T222331
DESCRIPTION: \n 
LAST-MODIFIED:20260422T222331
LOCATION:
SUMMARY:Sunday Morning Worship
URL;VALUE=URI:https://thewelcomebaptistchurch.com/events/sunday-morning-wor
 ship--1/2026-10-11
ATTACH;FILENAME=PXL_20250420_152055144.jpg;FMTTYPE=image/jpeg:https://dq5pw
 pg1q8ru0.cloudfront.net/2025/09/18/00/00/24/1b10fed5-c596-4422-a59f-30c518
 7228c9/PXL_20250420_152055144.jpg
END:VEVENT
END:VCALENDAR
