BEGIN:VCALENDAR
VERSION:2.0
PRODID:icalendar-ruby
CALSCALE:GREGORIAN
METHOD:PUBLISH
BEGIN:VEVENT
DTSTAMP:20260426T034355Z
UID:5-1174838@thewelcomebaptistchurch.com
DTSTART:20261004T143000Z
DTEND:20261004T153000Z
CLASS:PUBLIC
CREATED:20260425T211154
DESCRIPTION:Sunday Worship
LAST-MODIFIED:20260425T211154
LOCATION:
SUMMARY:Sunday Morning Worship
URL;VALUE=URI:https://thewelcomebaptistchurch.com/events/sunday-morning-wor
 ship/2026-10-04
END:VEVENT
END:VCALENDAR
