BEGIN:VCALENDAR
VERSION:2.0
PRODID:icalendar-ruby
CALSCALE:GREGORIAN
METHOD:PUBLISH
BEGIN:VEVENT
DTSTAMP:20260423T113741Z
UID:3-1159026@thewelcomebaptistchurch.com
DTSTART:20261011T140000Z
DTEND:20261011T150000Z
CLASS:PUBLIC
CREATED:20260422T222332
DESCRIPTION:
LAST-MODIFIED:20260422T222332
LOCATION:
SUMMARY:Sunday School
URL;VALUE=URI:https://thewelcomebaptistchurch.com/events/sunday-school/2026
 -10-11
ATTACH;FILENAME=PXL_20250420_141647409.jpg;FMTTYPE=image/jpeg:https://dq5pw
 pg1q8ru0.cloudfront.net/2025/09/17/23/55/50/d8dab43c-022b-41c1-8287-83a376
 37fa35/PXL_20250420_141647409.jpg
END:VEVENT
END:VCALENDAR
