BEGIN:VCALENDAR
VERSION:2.0
PRODID:icalendar-ruby
CALSCALE:GREGORIAN
METHOD:PUBLISH
BEGIN:VEVENT
DTSTAMP:20260424T145929Z
UID:2-1165738@thewelcomebaptistchurch.com
DTSTART:20261021T230000Z
DTEND:20261022T000000Z
CLASS:PUBLIC
CREATED:20260424T104724
DESCRIPTION:
LAST-MODIFIED:20260424T104724
LOCATION:
SUMMARY:Wednesday Evening Service
URL;VALUE=URI:https://thewelcomebaptistchurch.com/events/wednesday-evening-
 service/2026-10-21
ATTACH;FILENAME=PXL_20250420_152300471.PORTRAIT.ORIGINAL~2.jpg;FMTTYPE=imag
 e/jpeg:https://dq5pwpg1q8ru0.cloudfront.net/2025/09/17/23/57/59/074e6667-a
 435-4e5f-9170-7d0442ab3800/PXL_20250420_152300471.PORTRAIT.ORIGINAL~2.jpg
END:VEVENT
END:VCALENDAR
